0.500000000000000000
0.0
0.0
-0.500000000000000000
-420.68585200000001
1798.4715879999999
