1.00000000000000000
0.0
0.0
-1.00000000000000000
-263.25906400000002
1597.6647949999999
